BEGIN:VCALENDAR
VERSION:2.0
PRODID:-//ChamberMaster//Event Calendar 2.0//EN
METHOD:PUBLISH
X-PUBLISHED-TTL:P3D
REFRESH-INTERVAL:P3D
CALSCALE:GREGORIAN
BEGIN:VEVENT
DTSTART:20260425T130000Z
DTEND:20260425T210000Z
X-MICROSOFT-CDO-ALLDAYEVENT:FALSE
SUMMARY:Pillars Men '26 Conference
DESCRIPTION:Men's Ministry for all men\, all ages\, worship\, fellowship\, food\, fun and The Word
X-ALT-DESC;FMTTYPE=text/html:Men&#39\;s Ministry for all men\, all ages\, worship\, fellowship\, food\, fun and The Word
LOCATION:The Ranch Cowboy Church 514 Dugger St. Edna Texas
UID:e.2965.4070
SEQUENCE:3
DTSTAMP:20260423T011024Z
URL:https://www.jacksoncountytexas.com/events/details/pillars-men-26-conference-4070
END:VEVENT

END:VCALENDAR
