BEGIN:VCALENDAR
VERSION:2.0
PRODID:-//ChamberMaster//Event Calendar 2.0//EN
METHOD:PUBLISH
X-PUBLISHED-TTL:P3D
REFRESH-INTERVAL:P3D
CALSCALE:GREGORIAN
BEGIN:VEVENT
DTSTART;VALUE=DATE:20260425
DTEND;VALUE=DATE:20260426
TRANSP:TRANSPARENT
X-MICROSOFT-CDO-ALLDAYEVENT:TRUE
SUMMARY:Inez Community Center Benefit
DESCRIPTION:Kitchen & Bar Open at 5pm Something for the entire Family Silent Auction\, Free Dance by The Tainted Heart Band\, Live Auction\, Cake Walk\, Games for All
X-ALT-DESC;FMTTYPE=text/html:Kitchen &amp\; Bar Open at 5pm Something for the entire Family Silent Auction\, Free Dance by The Tainted Heart Band\, Live Auction\, Cake Walk\, Games for All
LOCATION:Inez Community Center
UID:e.2965.4071
SEQUENCE:3
DTSTAMP:20260423T011548Z
URL:https://www.jacksoncountytexas.com/events/details/inez-community-center-benefit-4071
END:VEVENT

END:VCALENDAR
