BEGIN:VCALENDAR
VERSION:2.0
PRODID:-//ChamberMaster//Event Calendar 2.0//EN
METHOD:PUBLISH
X-PUBLISHED-TTL:P3D
REFRESH-INTERVAL:P3D
CALSCALE:GREGORIAN
BEGIN:VEVENT
DTSTART:20260425T150000Z
DTEND:20260425T230000Z
X-MICROSOFT-CDO-ALLDAYEVENT:FALSE
SUMMARY:Ganado's Farmer's Market Crawfish Market
DESCRIPTION:Local vendors\, Artisans\, Family-Friendly Fun!
X-ALT-DESC;FMTTYPE=text/html:Local vendors\, Artisans\, Family-Friendly Fun!
LOCATION:Devers Creek Park
UID:e.2965.4069
SEQUENCE:3
DTSTAMP:20260421T082453Z
URL:https://www.jacksoncountytexas.com/events/details/ganado-s-farmer-s-market-crawfish-market-4069
END:VEVENT

END:VCALENDAR
